BEGIN:VCALENDAR
VERSION:2.0
PRODID:-//wp-events-plugin.com//7.2.3.1//EN
TZID:Europe/Paris
X-WR-TIMEZONE:Europe/Paris
BEGIN:VEVENT
UID:166@artspassion.fr
DTSTART;TZID=Europe/Paris;VALUE=DATE:20260410
DTEND;TZID=Europe/Paris;VALUE=DATE:20260413
DTSTAMP:20260124T084144Z
URL:https://artspassion.fr/events/3-jours-a-paris-en-avril-2/
SUMMARY:3 JOURS A PARIS EN AVRIL.
DESCRIPTION:Visites guidées de l'exposition MATISSE au Grand Palais - du M
 usée de Cluny et du quartier Latin - de la Villa des Brillants à Meudon 
 et du Musée Fournaise à Chatou.\nPrix : 767 € Le transport en TGV en 2
 ème classe - l'hébergement en hôtel 3*** centre ville en chambre double
  et petit-déjeuner - le déjeuner du vendredi - les entrées et visites p
 révues au programme - le transport en car privatif à Paris selon le prog
 ramme\, ...\nPROGRAMME COMPLET SUR DEMANDE.\n
CATEGORIES:Voyages
END:VEVENT
BEGIN:VTIMEZONE
TZID:Europe/Paris
X-LIC-LOCATION:Europe/Paris
BEGIN:DAYLIGHT
DTSTART:20260329T030000
TZOFFSETFROM:+0100
TZOFFSETTO:+0200
TZNAME:CEST
END:DAYLIGHT
END:VTIMEZONE
END:VCALENDAR