BEGIN:VCALENDAR
VERSION:2.0
PRODID:-//wp-events-plugin.com//7.2.3.1//EN
TZID:Europe/Paris
X-WR-TIMEZONE:Europe/Paris
BEGIN:VEVENT
UID:72@artspassion.fr
DTSTART;TZID=Europe/Paris:20240127T185500
DTEND;TZID=Europe/Paris:20240127T185500
DTSTAMP:20231222T201824Z
URL:https://artspassion.fr/events/carmen/
SUMMARY:CARMEN
DESCRIPTION:Retransmission en direct du Metropolitan Opera de New-York de C
 ARMEN de Bizet.\n\nPrix : 23 €\n\n&nbsp\;\n\nCARMEN\n\n&nbsp\;\n\n&nbsp\
 ;\n\n&nbsp\;\n\n&nbsp\;\n\n&nbsp\;\n\n&nbsp\;\n\n&nbsp\;\n\n&nbsp\;\n\n&nb
 sp\;\n
CATEGORIES:Opéra
LOCATION:Cinéma Pathé - Valence\, 53 av de Romans\, Valence\, 26000\, Fra
 nce
X-APPLE-STRUCTURED-LOCATION;VALUE=URI;X-ADDRESS=53 av de Romans\, Valence\,
  26000\, France;X-APPLE-RADIUS=100;X-TITLE=Cinéma Pathé - Valence:geo:0,
 0
END:VEVENT
BEGIN:VTIMEZONE
TZID:Europe/Paris
X-LIC-LOCATION:Europe/Paris
BEGIN:STANDARD
DTSTART:20231029T020000
TZOFFSETFROM:+0200
TZOFFSETTO:+0100
TZNAME:CET
END:STANDARD
END:VTIMEZONE
END:VCALENDAR