BEGIN:VCALENDAR
VERSION:2.0
PRODID:-//wp-events-plugin.com//7.2.3.1//EN
TZID:Europe/Paris
X-WR-TIMEZONE:Europe/Paris
BEGIN:VEVENT
UID:120@artspassion.fr
DTSTART;TZID=Europe/Paris;VALUE=DATE:20250925
DTEND;TZID=Europe/Paris;VALUE=DATE:20250926
DTSTAMP:20250312T184626Z
URL:https://artspassion.fr/events/cezanne-au-jas-de-bouffan/
SUMMARY:CÉZANNE AU JAS DE BOUFFAN.
DESCRIPTION:Visite guidée de l'exposition consacrée à Cézanne\, au mus
 ée Granet.\n\n&nbsp\;\n\nTélécharger le programme Programme AIX EN PROV
 ENCE CEZANNE 25 septembre 2025\n\n&nbsp\;\n\n&nbsp\;\n\n&nbsp\;
CATEGORIES:Expositions
END:VEVENT
BEGIN:VTIMEZONE
TZID:Europe/Paris
X-LIC-LOCATION:Europe/Paris
BEGIN:DAYLIGHT
DTSTART:20250330T030000
TZOFFSETFROM:+0100
TZOFFSETTO:+0200
TZNAME:CEST
END:DAYLIGHT
END:VTIMEZONE
END:VCALENDAR