BEGIN:VCALENDAR
VERSION:2.0
PRODID:-//wp-events-plugin.com//7.2.3.1//EN
TZID:Europe/Paris
X-WR-TIMEZONE:Europe/Paris
BEGIN:VEVENT
UID:122@artspassion.fr
DTSTART;TZID=Europe/Paris;VALUE=DATE:20250628
DTEND;TZID=Europe/Paris;VALUE=DATE:20250629
DTSTAMP:20250818T164642Z
URL:https://artspassion.fr/events/jazz-a-vienne-3/
SUMMARY:JAZZ A VIENNE / THOMAS DUTRONC
DESCRIPTION:Jazz à Vienne célèbre la guitare avec deux groupes d’excep
 tion.\n\nD’un côté\, Thomas Dutronc\, Stochelo Rosenberg et Rocky Gres
 set revisitent avec virtuosité le répertoire de Dutronc père\, l’albu
 m Frenchy et les grands classiques manouches.\n\nDe l’autre\, Biréli La
 grène\, Ulf Wakenius et Martin Taylor\, trois maîtres de la guitare\, re
 ndent hommage à cette tradition musicale avec élégance et complicité.\
 n\n&nbsp\;\n\nPrix : 60 €  la place + transport.\n\nDépart 1:\n16 H de
  PORTES LES VALENCE 460 avenue Charles de Gaulle (Parking des cars Faure).
 \n\nDépart 2:\n16 H 30 de TAIN devant l'entrée du parking Intermarché -
  en contrebas du péage autoroutier.
CATEGORIES:Musique
END:VEVENT
BEGIN:VTIMEZONE
TZID:Europe/Paris
X-LIC-LOCATION:Europe/Paris
BEGIN:DAYLIGHT
DTSTART:20250330T030000
TZOFFSETFROM:+0100
TZOFFSETTO:+0200
TZNAME:CEST
END:DAYLIGHT
END:VTIMEZONE
END:VCALENDAR